BEGIN:VCALENDAR
VERSION:2.0
PRODID:Imitheme.com 
BEGIN:VEVENT
UID:20260420T2154021064874541
DTSTAMP;TZID=UTC:2026-04-20 21:54:02
DTSTART;TZID=America/Los_Angeles:20220725T000000
DTEND;TZID=America/Los_Angeles:20220725T000000
SUMMARY:Great Hall of the Clans Museum
LOCATION:51779 Cabot Trail\, St. Ann\'s
DESCRIPTION:- Open June 22 – October 8, 2026 - Monday to Friday only - 9am – 4:30pm
URL:https://gaeliccollege.edu/eventer/great-hall-of-the-clans-museum/
END:VEVENT
END:VCALENDAR
