BEGIN:VCALENDAR
VERSION:2.0
PRODID:Imitheme.com 
BEGIN:VEVENT
UID:20260422T1001041375888425
DTSTAMP;TZID=UTC:2026-04-22 10:01:04
DTSTART;TZID=America/Los_Angeles:20190805T000000
DTEND;TZID=America/Los_Angeles:20190805T000000
SUMMARY:Summer Adult Session 1
LOCATION:51779 Cabot Trail\, St. Ann\'s
DESCRIPTION:
URL:https://gaeliccollege.edu/eventer/summer-adult-session-1/
END:VEVENT
END:VCALENDAR
