BEGIN:VCALENDAR
VERSION:2.0
PRODID:Imitheme.com 
BEGIN:VEVENT
UID:20260422T0606357408651
DTSTAMP;TZID=UTC:2026-04-22 06:06:35
DTSTART;TZID=America/Los_Angeles:20190612T000000
DTEND;TZID=America/Los_Angeles:20190612T000000
SUMMARY:Wednesday Night Ceilidh with Brenda Stubbert, Mac Morin, Colin MacDonald, and Abigail MacDonald
LOCATION:51779 Cabot Trail\, St. Ann\'s
DESCRIPTION:7:30pm – 9pm, every Wednesday night and featuring great local talent $10 at the door, free for those 12 and under
URL:https://gaeliccollege.edu/eventer/wednesday-night-ceilidh-with-brenda-stubbert-mac-morin-colin-macdonald-and-abigail-macdonald/
END:VEVENT
END:VCALENDAR
