BEGIN:VCALENDAR
VERSION:2.0
PRODID:Imitheme.com 
BEGIN:VEVENT
UID:20260422T0920331675290261
DTSTAMP;TZID=UTC:2026-04-22 09:20:33
DTSTART;TZID=America/Los_Angeles:20190520T000000
DTEND;TZID=America/Los_Angeles:20190520T000000
SUMMARY:Master Weavers Program Level 2
LOCATION:51779 Cabot Trail\, St. Ann\'s
DESCRIPTION:
URL:https://gaeliccollege.edu/eventer/master-weavers-program-level-2/
END:VEVENT
END:VCALENDAR
